BEGIN:VCALENDAR
VERSION:2.0
PRODID:-//Dress for Success of Southern Nevada - ECPv6.15.20//NONSGML v1.0//EN
CALSCALE:GREGORIAN
METHOD:PUBLISH
X-ORIGINAL-URL:https://dressforsuccesssouthernnevada.org
X-WR-CALDESC:Events for Dress for Success of Southern Nevada
REFRESH-INTERVAL;VALUE=DURATION:PT1H
X-Robots-Tag:noindex
X-PUBLISHED-TTL:PT1H
BEGIN:VTIMEZONE
TZID:UTC
BEGIN:STANDARD
TZOFFSETFROM:+0000
TZOFFSETTO:+0000
TZNAME:UTC
DTSTART:20230101T000000
END:STANDARD
END:VTIMEZONE
BEGIN:VEVENT
DTSTART;TZID=UTC:20240918T133000
DTEND;TZID=UTC:20240918T143000
DTSTAMP:20260422T111301
CREATED:20240725T042608Z
LAST-MODIFIED:20240911T025008Z
UID:3439-1726666200-1726669800@dressforsuccesssouthernnevada.org
SUMMARY:Buying a Home
DESCRIPTION:Join us on a path towards financial independence with our recurring financial health workshop series to learn more about how to understand and build your credit! \nRegister at: https://events.chase.com/ereg/newreg.php?eventid=300042692&
URL:https://dressforsuccesssouthernnevada.org/event/understanding-and-building-your-credit-financial-health-series/
LOCATION:Dress for Success Southern Nevada\, 3230 S. Procyon UNIT 28\, Las Vegas\, 89102\, United States
ATTACH;FMTTYPE=image/png:https://dressforsuccesssouthernnevada.org/wp-content/uploads/2024/07/FINANCIAL-HEALTH-WORKSHOP-BUYING-A-HOME-SEPTEMBER-18.png
END:VEVENT
BEGIN:VEVENT
DTSTART;TZID=UTC:20240921T110000
DTEND;TZID=UTC:20240921T140000
DTSTAMP:20260422T111301
CREATED:20240908T202545Z
LAST-MODIFIED:20240911T195053Z
UID:3669-1726916400-1726927200@dressforsuccesssouthernnevada.org
SUMMARY:Empowerment Workshop: Trust the Process
DESCRIPTION:Discover how to tailor your journey to success with Belinda Burke\, a seasoned career and certified professional life coach. In this empowering luncheon workshop\, you’ll delve into the art of understanding and trusting your personal process. Learn how to set meaningful goals\, break them down into actionable steps\, and embrace both progress and setbacks as part of your growth. With individual packets and worksheets\, you’ll map out your own version of success\, exploring the deeper meaning behind your goals and how to achieve and sustain them in your life. \nLocation: 3230 S Procyon Ave. Suite 28\, Las Vegas\, NV 89102 \nLunch will be provided. We hope to see you there! \nRegister Here: https://forms.gle/VfH6TrxNTF91kwc16
URL:https://dressforsuccesssouthernnevada.org/event/lunch-and-learn-empowerment-workshop/
ATTACH;FMTTYPE=application/pdf:https://dressforsuccesssouthernnevada.org/wp-content/uploads/2024/09/Belinda-September-21-workshop-flyer.pdf
END:VEVENT
END:VCALENDAR