BEGIN:VCALENDAR
VERSION:2.0
PRODID:-//Dress for Success of Southern Nevada - ECPv6.15.20//NONSGML v1.0//EN
CALSCALE:GREGORIAN
METHOD:PUBLISH
X-WR-CALNAME:Dress for Success of Southern Nevada
X-ORIGINAL-URL:https://dressforsuccesssouthernnevada.org
X-WR-CALDESC:Events for Dress for Success of Southern Nevada
REFRESH-INTERVAL;VALUE=DURATION:PT1H
X-Robots-Tag:noindex
X-PUBLISHED-TTL:PT1H
BEGIN:VTIMEZONE
TZID:UTC
BEGIN:STANDARD
TZOFFSETFROM:+0000
TZOFFSETTO:+0000
TZNAME:UTC
DTSTART:20230101T000000
END:STANDARD
END:VTIMEZONE
BEGIN:VEVENT
DTSTART;TZID=UTC:20240727T110000
DTEND;TZID=UTC:20240727T130000
DTSTAMP:20260422T181248
CREATED:20240725T041009Z
LAST-MODIFIED:20240725T042236Z
UID:3421-1722078000-1722085200@dressforsuccesssouthernnevada.org
SUMMARY:Building Professional Confidence | An Empowerment Workshop for Women
DESCRIPTION:Join us to learn how to feel confident in your abilities\, your personality\, and your capacity to succeed in the workplace and beyond. \nPresented by:\nBelinda Burke\, Life Recovery Coach\, Community Health Worker\nMarie-Carole De La Cruz\, Financial Professional \nLunch and beverage will be provided \nTo RSVP\, contact us at:\nreferralagency@dfssouthernnevada.org\nor\n+1 (702) 684-6412
URL:https://dressforsuccesssouthernnevada.org/event/building-professional-confidence-an-empowerment-workshop-for-women/
LOCATION:Dress for Success Southern Nevada\, 3230 S. Procyon UNIT 28\, Las Vegas\, 89102\, United States
ATTACH;FMTTYPE=image/jpeg:https://dressforsuccesssouthernnevada.org/wp-content/uploads/2024/07/image0-rotated-e1721881321187.jpeg
END:VEVENT
END:VCALENDAR