BEGIN:VCALENDAR
VERSION:2.0
PRODID:-//Dress for Success of Southern Nevada - ECPv6.15.20//NONSGML v1.0//EN
CALSCALE:GREGORIAN
METHOD:PUBLISH
X-WR-CALNAME:Dress for Success of Southern Nevada
X-ORIGINAL-URL:https://dressforsuccesssouthernnevada.org
X-WR-CALDESC:Events for Dress for Success of Southern Nevada
REFRESH-INTERVAL;VALUE=DURATION:PT1H
X-Robots-Tag:noindex
X-PUBLISHED-TTL:PT1H
BEGIN:VTIMEZONE
TZID:UTC
BEGIN:STANDARD
TZOFFSETFROM:+0000
TZOFFSETTO:+0000
TZNAME:UTC
DTSTART:20230101T000000
END:STANDARD
END:VTIMEZONE
BEGIN:VEVENT
DTSTART;TZID=UTC:20241005T130000
DTEND;TZID=UTC:20241005T140000
DTSTAMP:20260422T000808
CREATED:20240912T201314Z
LAST-MODIFIED:20240912T201314Z
UID:3708-1728133200-1728136800@dressforsuccesssouthernnevada.org
SUMMARY:Be The Boss of Your Financial Future
DESCRIPTION:Join financial coach\, speaker\, and author of Inner Strength Outer Success\, Beth Burns\, for an enlightening workshop designed to transform your approach to money management. In this session\, Beth will teach you how to be a savvy steward of your finances\, demonstrating how a robust financial foundation not only broadens your life’s possibilities but is crucial for achieving your goals and enhancing your overall happiness. Discover how mastering your money can pave the way to a more fulfilled and successful life. \nAddress: 3230 West Procyon #28\, Las Vegas\, NV 89102 \nRegister here: https://forms.gle/6hDNP92TUF5ey8c56 \n 
URL:https://dressforsuccesssouthernnevada.org/event/be-the-boss-of-your-financial-future/
ATTACH;FMTTYPE=image/png:https://dressforsuccesssouthernnevada.org/wp-content/uploads/2024/09/Be-The-Boss-of-Your-Financial-Future.png
END:VEVENT
END:VCALENDAR